BEGIN:VCALENDAR
VERSION:2.0
CALSCALE:GREGORIAN
PRODID:-//MyApp//Calendar 1.0//EN
BEGIN:VEVENT
METHOD:PUBLISH
UID:37805@regionalniportaly.cz
DTSTAMP:20260422T212507Z
DTSTART;VALUE=DATE:20240216
DTEND;VALUE=DATE:20240217
SUMMARY:Cocotte Minute - Vostrý Jaro TOUR 2024
DESCRIPTION:
LOCATION:Vyškov
END:VEVENT
END:VCALENDAR