BEGIN:VCALENDAR
VERSION:2.0
CALSCALE:GREGORIAN
PRODID:-//MyApp//Calendar 1.0//EN
BEGIN:VEVENT
METHOD:PUBLISH
UID:37785@regionalniportaly.cz
DTSTAMP:20260422T212325Z
DTSTART;VALUE=DATE:20240216
DTEND;VALUE=DATE:20240217
SUMMARY:REFEW in SPACE
DESCRIPTION:REFEW in SPACEV novém klubu SPACE ve Vyškově vystoupí jeden z nejlepších raperů v ČR.REFEWsupport-DJ DOM &amp\; KRIEGELRNB\, Rap\, Hip Hop\, DanceHall 💯REFEW vlastním jménem Erik Gábor je třicetiletý rapper\, zpěvák a influencer z Prahy\, který má za sebou nespočet hudebních počinů\, úspěšných písniček a videoklipů a spoustu velmi navštěvovaných koncertů. Jeho příchod na hudební scénu se datuje k roku 2014\, kde začínal jako jezdec stáje Bigg Boss\, kde tehdy začínal pracovat na svojí kariéře po boku velikánu jako jsou PSH\, Supercroo a další.http://www.blakk.market/refewWebrefewofficialInstagramtvrefewYouTuberefewofficialTikTokRefewSpotify
LOCATION:Vyškov
END:VEVENT
END:VCALENDAR