BEGIN:VCALENDAR
VERSION:2.0
CALSCALE:GREGORIAN
PRODID:-//MyApp//Calendar 1.0//EN
BEGIN:VEVENT
METHOD:PUBLISH
UID:37656@regionalniportaly.cz
DTSTAMP:20260422T200937Z
DTSTART;VALUE=DATE:20240427
DTEND;VALUE=DATE:20240428
SUMMARY:Bára Basiková & Pačess\, Miloš Dodo Doležal
DESCRIPTION:Pačess je etablovaná pivně didaktická metalová kapela svérázného pivovarníka\, která má na kontě pět nahrávek. Poslední album&nbsp\;„Absolutno“&nbsp\;vyšlo na podzim 2023 a bylo více než vřele přijato jak kritikou\, tak i fanoušky. Na téhle nahrávce kapela spojila síly s jednou z nejuznávanějších tuzemských zpěvaček Bárou Basikovou a to ve skladbě „Továrny na Absolutno“\, kterou doprovodila i videoklipem v režii uznávaného tvůrce klipů Mejly Basela.&nbsp\;Bára Basiková se skupinou odehrála dva ojedinělé koncerty a jejich úspěch dal vzniknout další spolupráci. Ta by měla být hmatatelná na jaře příštího roku v podobě alba\, které Bára se skupinou nahraje. Tato událost bude podpořena mediální kampaní\, videoklipy a několika koncerty.Miloš Dodo Doležal&nbsp\;je legenda československé rockmetalové hudební scény. Proslavil se zejména jako frontman skupiny Vitacit. Působil v mnoha&nbsp\;dalších projektech&nbsp\;s uznávanými tuzemskými i zahraničními muzikanty.&nbsp\;Pravidelně vydává alba a neúnavně koncertuje spolu se svým&nbsp\;bubeníkem Matějem Čurdou a svým synem Milošem\, jedním z&nbsp\;největších baskytarových talentů posledních let.Celý večer zahájí Slaves Of Passion\, mladá kapela vyznávající melodický death metal a místní punk rockeři Punkevní Jesvyně.
LOCATION:Drnovice
END:VEVENT
END:VCALENDAR