BEGIN:VCALENDAR
VERSION:2.0
CALSCALE:GREGORIAN
PRODID:-//MyApp//Calendar 1.0//EN
BEGIN:VEVENT
METHOD:PUBLISH
UID:37420@regionalniportaly.cz
DTSTAMP:20260422T231151Z
DTSTART;VALUE=DATE:20231216
DTEND;VALUE=DATE:20231217
SUMMARY:Vánoční koncert Davida Kříže
DESCRIPTION:Přijďte se s námi naladit na vánoční atmosféru\, zpomalit a užít sijiž tradiční vánoční koncert Davida Kříže s klavírním doprovodem Lucie Kubátové\, mistrovských houslí Jitky Břízové a hostů- ženského pěveckého sboru Rousing a členů souboru D.A.V.A Rousínov\, Jakuba Libánka a Lukáše Olejáka.\nKoncert proběhne16.12. v Rousínově\, ve velkém sále Záložny od 18:00h.\n \nVstupné 100 Kč.
LOCATION:Rousínov
END:VEVENT
END:VCALENDAR