BEGIN:VCALENDAR
VERSION:2.0
CALSCALE:GREGORIAN
PRODID:-//MyApp//Calendar 1.0//EN
BEGIN:VEVENT
METHOD:PUBLISH
UID:36983@regionalniportaly.cz
DTSTAMP:20260422T201003Z
DTSTART;VALUE=DATE:20231121
DTEND;VALUE=DATE:20231122
SUMMARY:Co by můj syn měl vědět o světě
DESCRIPTION:
LOCATION:Vyškov
END:VEVENT
END:VCALENDAR