BEGIN:VCALENDAR
VERSION:2.0
CALSCALE:GREGORIAN
PRODID:-//MyApp//Calendar 1.0//EN
BEGIN:VEVENT
METHOD:PUBLISH
UID:36982@regionalniportaly.cz
DTSTAMP:20260422T225810Z
DTSTART;VALUE=DATE:20231203
DTEND;VALUE=DATE:20231204
SUMMARY:Komedie Jeden a jedna jsou tři
DESCRIPTION:
LOCATION:Vyškov
END:VEVENT
END:VCALENDAR