BEGIN:VCALENDAR
VERSION:2.0
CALSCALE:GREGORIAN
PRODID:-//MyApp//Calendar 1.0//EN
BEGIN:VEVENT
METHOD:PUBLISH
UID:36743@regionalniportaly.cz
DTSTAMP:20260422T125557Z
DTSTART;VALUE=DATE:20231122
DTEND;VALUE=DATE:20231124
SUMMARY:Královna sněhu
DESCRIPTION:Co takhle si nadělit předčasný vánoční dárek? Co třeba výlet do světa Královny sněhu?\nMuzikálové představení pro celou rodinu na motivy pohádky H.CH. Andersena.Příběh Kaje a Gerdy v upravené verzi pod režijní taktovkou Davida Kříže.Přijďte strávit předvánoční čas v kouzelném světě zimní královny! Letos nově s úžasnou audiovizuální projekcí!\nMůžete si vybrat z následujících termínů:středa 22.11.čtvrtek 23.11.pátek 24.11.\nZačínáme vždy v 19h\, ve velkém sále Záložny (Sušilovo nám. 2)\n \nTěšíme se na vás!
LOCATION:Rousínov
END:VEVENT
END:VCALENDAR