BEGIN:VCALENDAR
VERSION:2.0
CALSCALE:GREGORIAN
PRODID:-//MyApp//Calendar 1.0//EN
BEGIN:VEVENT
METHOD:PUBLISH
UID:36397@regionalniportaly.cz
DTSTAMP:20260422T201716Z
DTSTART;VALUE=DATE:20231114
DTEND;VALUE=DATE:20231115
SUMMARY:Dialogy s Krylem
DESCRIPTION:
LOCATION:Drnovice
END:VEVENT
END:VCALENDAR