BEGIN:VCALENDAR
VERSION:2.0
CALSCALE:GREGORIAN
PRODID:-//MyApp//Calendar 1.0//EN
BEGIN:VEVENT
METHOD:PUBLISH
UID:36387@regionalniportaly.cz
DTSTAMP:20260422T201752Z
DTSTART;VALUE=DATE:20231111
DTEND;VALUE=DATE:20231112
SUMMARY:ZDENĚK IZER - Vyndavací zas tam dací
DESCRIPTION:Kulturní dům Ivanovice na Hané 11. 11. 2023 v 19 h. Předprodej vstupenek: Městská knihovna Ivanovice na Hané\, tel. 517 363 397\, on-line na: www.ticketevent.cz
LOCATION:Ivanovice na Hané
END:VEVENT
END:VCALENDAR