BEGIN:VCALENDAR
VERSION:2.0
CALSCALE:GREGORIAN
PRODID:-//MyApp//Calendar 1.0//EN
BEGIN:VEVENT
METHOD:PUBLISH
UID:36265@regionalniportaly.cz
DTSTAMP:20260422T212413Z
DTSTART;VALUE=DATE:20240316
DTEND;VALUE=DATE:20240317
SUMMARY:TRANSFORMERS SHOW!
DESCRIPTION:Vyškov\, tuhle sobotu&nbsp\;děti rozhodně nebudou chtít strávit u televize.Horká novinka&nbsp\;- SHOW GIGANTICKÝCH ROBOTŮ&nbsp\;ve Vašem městě!&nbsp\;Jediné turné v&nbsp\;ČR\, které když propásnete\, bude nenávratně pryč.pozn.:&nbsp\;Kamarádka vás zabije\, pokud ji nedáte vědět taky :)
LOCATION:Vyškov
END:VEVENT
END:VCALENDAR