BEGIN:VCALENDAR
VERSION:2.0
CALSCALE:GREGORIAN
PRODID:-//MyApp//Calendar 1.0//EN
BEGIN:VEVENT
METHOD:PUBLISH
UID:35886@regionalniportaly.cz
DTSTAMP:20260423T003822Z
DTSTART;VALUE=DATE:20231209
DTEND;VALUE=DATE:20231210
SUMMARY:Gamballský Vánoční večírek
DESCRIPTION:Každoroční Gamballská párty\, tentokráte ve zcela novém klubu Space ve Vyškově Dědicích.Jako hosté vystoupí skvělí Satisfvcktion z Českých Budějovic a úžasní Hazydecay z Olomouce&nbsp\;Předprodej 250\,- Kč\, na místě 300\,- Kč.&nbsp\;
LOCATION:Vyškov
END:VEVENT
END:VCALENDAR