BEGIN:VCALENDAR
VERSION:2.0
CALSCALE:GREGORIAN
PRODID:-//MyApp//Calendar 1.0//EN
BEGIN:VEVENT
METHOD:PUBLISH
UID:35829@regionalniportaly.cz
DTSTAMP:20260422T214759Z
DTSTART;VALUE=DATE:20231028
DTEND;VALUE=DATE:20231029
SUMMARY:Péče o jizvu z pohledu fyzioterapeutky
DESCRIPTION:
LOCATION:Vyškov
END:VEVENT
END:VCALENDAR