BEGIN:VCALENDAR
VERSION:2.0
CALSCALE:GREGORIAN
PRODID:-//MyApp//Calendar 1.0//EN
BEGIN:VEVENT
METHOD:PUBLISH
UID:35569@regionalniportaly.cz
DTSTAMP:20260422T143207Z
DTSTART;VALUE=DATE:20231007
DTEND;VALUE=DATE:20231008
SUMMARY:muzikálový western Jedna statečná
DESCRIPTION:Westernové muzikálové představení „Jedna statečná“ je výročním titulem\, se kterým vyráží nejstarší ansámbl D.A.V.Aků do jubilejní 20. divadelní sezóny.\nAutorská divadelní hra režiséra Davida Kříže se nese v duchu stylistiky divokého západu. Fiktivní městečko Rouseen New City je plné rozmanitých postav\, které se spolu setkají v zápletce s několika nečekanými zvraty.\n \nRežie\, námět\, scénář\, hudba: David Kříž\nHrají: nejstarší ansámbl divadla D.A.V.A Rousínov\n \nDélka: 90 minut + 15 minutová přestávka\n \n 
LOCATION:Rousínov
END:VEVENT
END:VCALENDAR