BEGIN:VCALENDAR
VERSION:2.0
CALSCALE:GREGORIAN
PRODID:-//MyApp//Calendar 1.0//EN
BEGIN:VEVENT
METHOD:PUBLISH
UID:35457@regionalniportaly.cz
DTSTAMP:20260423T010717Z
DTSTART;VALUE=DATE:20231008
DTEND;VALUE=DATE:20231009
SUMMARY:Lucie Bílá - Recitál s klavírem Petra Maláska
DESCRIPTION:
LOCATION:Drnovice
END:VEVENT
END:VCALENDAR