BEGIN:VCALENDAR
VERSION:2.0
CALSCALE:GREGORIAN
PRODID:-//MyApp//Calendar 1.0//EN
BEGIN:VEVENT
METHOD:PUBLISH
UID:34916@regionalniportaly.cz
DTSTAMP:20260423T004006Z
DTSTART;VALUE=DATE:20230928
DTEND;VALUE=DATE:20231001
SUMMARY:Oktoberfest 2023 na Panelce
DESCRIPTION:Legendární Oktoberfest na Panelce ist hier.&nbsp\;Akce je vícedenní a kromě soboty jej může navštívit&nbsp\;každý zdarma. Podmínkou je pouze zakoupení panelkového tupláku (150\,-)\, který Vám zůstane. Zároveň tak zajistíme důstojně načepovaná bavorská piva. Kdo už náš tuplák má\, tak už vystaráno má.&nbsp\;Na sobotní program je nutné si zakoupit vstupenku. V sobotu totiž bude hrát živá bavorská muzika Eine gutte deutsche muzik plus to večer odpálí mezinárodní eventová kapela Tram 69.&nbsp\;Na našem Oktoberfestu se můžete těšit na bavorské speciality\, grilly a udírny no a samozřejmě na ryzí mnichovská piva. Na čepu bude 100 sudů pěti druhů.&nbsp\;Tak nakupujte dirndle\, letherhoseny\, kloboučky s pérem sojčím anebo aspoň kostkované košile.&nbsp\;Wiedersehen&nbsp\;Za Panelku LulečAndreas und Haifisch&nbsp\;
LOCATION:Luleč
END:VEVENT
END:VCALENDAR