BEGIN:VCALENDAR
VERSION:2.0
CALSCALE:GREGORIAN
PRODID:-//MyApp//Calendar 1.0//EN
BEGIN:VEVENT
METHOD:PUBLISH
UID:34857@regionalniportaly.cz
DTSTAMP:20260422T213221Z
DTSTART;VALUE=DATE:20230829
DTEND;VALUE=DATE:20230830
SUMMARY:BARBARA MARIA WILLI cembalo & VLADISLAV BLÁHA kytara 29. 08. v 18:00\, Kostel Panny Marie\,Vyškov
DESCRIPTION:BARBARA MARIA WILLI\ncembalo\n&amp\; VLADISLAV BLÁHA\nkytara\n29. 08. 2023 V 18:00\nHřbitovní kostel Panny Marie\,\nVyškov
LOCATION:Vyškov
END:VEVENT
END:VCALENDAR