BEGIN:VCALENDAR
VERSION:2.0
CALSCALE:GREGORIAN
PRODID:-//MyApp//Calendar 1.0//EN
BEGIN:VEVENT
METHOD:PUBLISH
UID:34766@regionalniportaly.cz
DTSTAMP:20260422T230304Z
DTSTART;VALUE=DATE:20231124
DTEND;VALUE=DATE:20231125
SUMMARY:Elektrïck Mann\, support: Mr. Dynaboom
DESCRIPTION:Koncert skupiny Elektrick mann ve vyškovském klubu Peklo.
LOCATION:Vyškov
END:VEVENT
END:VCALENDAR