BEGIN:VCALENDAR
VERSION:2.0
CALSCALE:GREGORIAN
PRODID:-//MyApp//Calendar 1.0//EN
BEGIN:VEVENT
METHOD:PUBLISH
UID:34521@regionalniportaly.cz
DTSTAMP:20260422T212458Z
DTSTART;VALUE=DATE:20230907
DTEND;VALUE=DATE:20230908
SUMMARY:Pozemšťan
DESCRIPTION:PozemšťanBláznivý příběh mimozemšťana\, který touží stát se pozemšťanem. Pohybuje se po planetě Zemi a bedlivě nás pozoruje\, aby se naučil být jako my. Nemá to ale jednoduché. Jsme totiž podivnější\, než si myslel. Podaří se mu pochopit naše chování a zapadnout do společnosti?Ve své nejnovější autorské inscenaci Pavol Seriš satiricky pohlíží na chaotický svět\, který dnešní člověk přijímá jako normu. “Pozemšťan” je divadelní zprávou o lidech 21. století\, kteří se dívají všude kolem sebe\, jen ne do zrcadla. Fyzický stand-up a komediální pantomima o tom\, jak se chováme a jací jsme.Inscenace vznikla ve&nbsp\;spolupráci s&nbsp\;Divadlem Bolka Polívky.Dramaturgie: Matěj RandárSupervize: Bolek PolívkaRežie: Hana MikoláškováAutor a hraje: Pavol Seriš
LOCATION:Luleč
END:VEVENT
END:VCALENDAR