BEGIN:VCALENDAR
VERSION:2.0
CALSCALE:GREGORIAN
PRODID:-//MyApp//Calendar 1.0//EN
BEGIN:VEVENT
METHOD:PUBLISH
UID:34308@regionalniportaly.cz
DTSTAMP:20260423T003909Z
DTSTART;VALUE=DATE:20230813
DTEND;VALUE=DATE:20230814
SUMMARY:O pekařském štěstí
DESCRIPTION:Co se stane\, když v nejlepším pekařství ztratí zázračný recept?&nbsp\;Po delším čase se k nám vrací Malé-velké divadlo Brno a uvede tuto krásnou pohádku. Užijte si ji společně s Vašimi nejmenšími&nbsp\;Symbolické vstupné se vztahuje na děti i doprovod.&nbsp\;&nbsp\;&nbsp\;&nbsp\;&nbsp\;
LOCATION:Luleč
END:VEVENT
END:VCALENDAR