BEGIN:VCALENDAR
VERSION:2.0
CALSCALE:GREGORIAN
PRODID:-//MyApp//Calendar 1.0//EN
BEGIN:VEVENT
METHOD:PUBLISH
UID:34108@regionalniportaly.cz
DTSTAMP:20260422T230106Z
DTSTART;VALUE=DATE:20230803
DTEND;VALUE=DATE:20230804
SUMMARY:Ani o den dýl!
DESCRIPTION:Konečně na Panelce zase nějaké to divadlo!&nbsp\;Ani o den dýl! je bláznivá komedie o Pavlovi\, který nemá koule dát své holce kopačky. Proto si na pomoc do svého bytu\, kde bydlí i se svoji přítelkyní Sofií\, nastěhuje kamaráda Martina.Dočasný život ve třech má Sofii vytočit natolik\, že Pavla kopne do zadku ona. Plán ale nevychází a proto je potřeba tuto ztřeštěnou divadelní komedii vidět živě!Hrají herci z Městského divadla Brno: Tomáš Sagher\, Ondřej Halámek a Lucie Bergerová. Režie Ladislav Kolář
LOCATION:Luleč
END:VEVENT
END:VCALENDAR