BEGIN:VCALENDAR
VERSION:2.0
CALSCALE:GREGORIAN
PRODID:-//MyApp//Calendar 1.0//EN
BEGIN:VEVENT
METHOD:PUBLISH
UID:33787@regionalniportaly.cz
DTSTAMP:20260423T015901Z
DTSTART;VALUE=DATE:20230728
DTEND;VALUE=DATE:20230729
SUMMARY:Rap na Panelce: Návrat králů w/ Maniak & MC Gey
DESCRIPTION:Wac ap bičis? Dáme RAP?!Naposled\, když u nás byl Maniak\, skočil dolů z terasy. Naposled\, když u&nbsp\;nás byl MC Gey\, byla to epesní komorní show pro 69 lidí v naší gaučárně.Na konci tohoto července tyto živly spojíme!Maniak za poslední dva roky vyrostl o tisíce fans\, MC Gey o tři děti a do toho před pár měsíci vydal nové album – dospělý art s názvem „O tatínkovi\, který usnul“.Na tento večírek se obzvláště těšíme\, rap u nás dlouho nebyl.Vstupenky startujeme na až nekřesťansky nízké ceně 220 Kč za kus a budeme postupně zvedat.
LOCATION:Luleč
END:VEVENT
END:VCALENDAR