BEGIN:VCALENDAR
VERSION:2.0
CALSCALE:GREGORIAN
PRODID:-//MyApp//Calendar 1.0//EN
BEGIN:VEVENT
METHOD:PUBLISH
UID:33709@regionalniportaly.cz
DTSTAMP:20260422T231201Z
DTSTART;VALUE=DATE:20230826
DTEND;VALUE=DATE:20230827
SUMMARY:Panelka Night Fever s disko koulí v pozadí
DESCRIPTION:17:00 Tom Holič19:00 Hello Marcel21:00 Midi Lidi23:30 VentolinToto nebude jen tak ledajaký happening\, toto bude happying.Na závěr léta si pořádně dopřejeme\, protože&nbsp\;jsme do nákupního košíku naházeli jen ty pořádný letní vypalovačky. A kdyby to bylo moc\, za barem máme opalovák. V plánu je sehnat několik disko koulí\, ať se Panelka pořádně blejská.Přijeď na ten nejblyštivější&nbsp\;mejdan letošní sezóny\, protože Midi Lidi\, Ventolin\, Hello Marcel a Tom Holič&nbsp\;To už je vlastně spíš festival.
LOCATION:Luleč
END:VEVENT
END:VCALENDAR