BEGIN:VCALENDAR
VERSION:2.0
CALSCALE:GREGORIAN
PRODID:-//MyApp//Calendar 1.0//EN
BEGIN:VEVENT
METHOD:PUBLISH
UID:33554@regionalniportaly.cz
DTSTAMP:20260422T225636Z
DTSTART;VALUE=DATE:20230722
DTEND;VALUE=DATE:20230723
SUMMARY:Kecy a politika
DESCRIPTION:Legendární political beasts opět na Panelce!Open-Air jak se patří i s následným večírkem.Kdo chce zjistit možnosti nemovitého ubytování\, tak prosím u Ondřeje na telefonu: 774 021 774.Kdo chce přijet obytňákem\, tak hned vedle vašeho a našeho nejoblíbenějšího podniku je velké parkoviště bez poplatku.Kdo chce punk\, ať si vezme stan (místo si rezervujte na telefonu výše).Jídlo netřeba\, vše se přece koná na Panelce.A nezapomeňte plavky!&nbsp\;Za tým PanelkaŠárka und Ondřej!
LOCATION:Luleč
END:VEVENT
END:VCALENDAR