BEGIN:VCALENDAR
VERSION:2.0
CALSCALE:GREGORIAN
PRODID:-//MyApp//Calendar 1.0//EN
BEGIN:VEVENT
METHOD:PUBLISH
UID:33494@regionalniportaly.cz
DTSTAMP:20260422T184153Z
DTSTART;VALUE=DATE:20230629
DTEND;VALUE=DATE:20230630
SUMMARY:Přepište dějiny na Panelce!
DESCRIPTION:Dovolte nám vás pozvat na první open air vystoupení historiků Martina Gromana a Michala Stehlíka\, konající se v rámci podcastu "Přepište dějiny"\, který byl roku 2020 oceněn titulem "Podcast roku – Objev roku".Hlavním tématem budou dva čeští prezidenti\; Tomáš Garrigue Masaryk – prezident osvoboditel a Klement Gottwald – první dělnický prezident. Obě tyto zásadní postavy českých dějin mají společný moravský původ\; Masaryk pochází z Hodonína a k rodnému domu Klementa Gottwalda od Panelky přijedete asi za deset minut. V rámci akce chystáme i tématické občerstvení vycházející z osobních preferencí obou prezidentů.Na debatu pánů historiků navazuje otevřená diskuse\, v níž se každý může zeptat na to\, co ho zajímá\, ať už v rámci tématu\, či mimo něj.&nbsp\;Těšíme se na vás!
LOCATION:Luleč
END:VEVENT
END:VCALENDAR