BEGIN:VCALENDAR
VERSION:2.0
CALSCALE:GREGORIAN
PRODID:-//MyApp//Calendar 1.0//EN
BEGIN:VEVENT
METHOD:PUBLISH
UID:33257@regionalniportaly.cz
DTSTAMP:20260422T125628Z
DTSTART;VALUE=DATE:20230609
DTEND;VALUE=DATE:20230616
SUMMARY:Rousínovský divadelní a folklorní festival
DESCRIPTION:
LOCATION:Rousínov
END:VEVENT
END:VCALENDAR