BEGIN:VCALENDAR
VERSION:2.0
CALSCALE:GREGORIAN
PRODID:-//MyApp//Calendar 1.0//EN
BEGIN:VEVENT
METHOD:PUBLISH
UID:33215@regionalniportaly.cz
DTSTAMP:20260422T184010Z
DTSTART;VALUE=DATE:20230610
DTEND;VALUE=DATE:20230611
SUMMARY:Panelka & Bert & Friends # 4 roky spolu
DESCRIPTION:Nedávno jsme dovršili 4 roky fungování Panelky\, pořádně jsme to ale zatím neoslavili. Může být vhodnější oslavná kapela než Bert a jeho přátelé? Od zprovoznění kiosku u nás hráli každý rok a tak musí i letos. Sorry jako.Vyzdobíme Panelku\, nachystáme soundsystém\, zapojíme nástroje\, uvaříme to nejlepší jídlo a zaboříme bosé palce do písku.&nbsp\;Bert &amp\; Friends doplní stabilní oblíbenec našeho stabilního publika Don Juan Disco. A možná přijde i DJ!
LOCATION:Luleč
END:VEVENT
END:VCALENDAR