BEGIN:VCALENDAR
VERSION:2.0
CALSCALE:GREGORIAN
PRODID:-//MyApp//Calendar 1.0//EN
BEGIN:VEVENT
METHOD:PUBLISH
UID:32877@regionalniportaly.cz
DTSTAMP:20260423T003800Z
DTSTART;VALUE=DATE:20230521
DTEND;VALUE=DATE:20230522
SUMMARY:Spartans závod - Hřiště Kačenec
DESCRIPTION:Opět pořádáme pro děti menší závod v délce max 2km nebude chybět ani voda\, ručkovácí překážky\, rovnováha a mnoho dalšího. Připravených bude přes 20 překážek. V cíli každý obdrží originální kovovou medaili.\n \nRegistrace zde https://forms.gle/msuCES88n1VdXj5D9
LOCATION:Vyškov
END:VEVENT
END:VCALENDAR