BEGIN:VCALENDAR
VERSION:2.0
CALSCALE:GREGORIAN
PRODID:-//MyApp//Calendar 1.0//EN
BEGIN:VEVENT
METHOD:PUBLISH
UID:32757@regionalniportaly.cz
DTSTAMP:20260422T214949Z
DTSTART;VALUE=DATE:20231117
DTEND;VALUE=DATE:20231118
SUMMARY:Mňága a Žďorp - KD Drnovice
DESCRIPTION:Mňága a Žďorp je&nbsp\;kapela z Valašského Meziříčí působící na české hudební scéně od roku 1983 vznikala pod vedením zpěváka a kytaristy Petra Fialy. Trvalo osm let\, než vyplula z Moravy nenápadná nahrávka „Made In Valmez" od skupiny s podivným názvem\, jež v sobě mísila kouzelnou poetiku všednosti a zdravé lidskosti. Do povědomí se kapela zapsala hity jako Hodinový hotel\, Písnička pro tebe nebo Klec v kleci. Od té doby uplynula řada let\, během kterých kapela vydala 16 desek hořkosladkých songů nezaměnitelného rukopisu.&nbsp\;Láska. Osobitý písničkář\, kytarista\, zpěvák\, skladatel. Hudebník\, kterého můžete najít jak v programu velkého hudebního festivalu či na městských slavnostech\, tak u táboráku na dětském táboře…a samozřejmě kdekoli mezi tím.
LOCATION:Drnovice
END:VEVENT
END:VCALENDAR