BEGIN:VCALENDAR
VERSION:2.0
CALSCALE:GREGORIAN
PRODID:-//MyApp//Calendar 1.0//EN
BEGIN:VEVENT
METHOD:PUBLISH
UID:32515@regionalniportaly.cz
DTSTAMP:20260422T230950Z
DTSTART;VALUE=DATE:20230521
DTEND;VALUE=DATE:20230522
SUMMARY:Dětské odpoledne Vyškov
DESCRIPTION:DĚTSKÉ ODPOLEDNE VE VYŠKOVĚ!V neděli 21. května v Hotelu Dukla chystáme dětské odpoledne. V prostorech klubu Peklo čeká na vaše ratolesti skvělá diskotéka plná známých dětských hitů\, které pro vás vybere DJ OLDŘICH HRÓZA. Na pódiu Vaše děti roztančí Linda a Maruška\, které si pro děti připraví poutavý program a spoustu soutěží o sladké i věcné ceny. V rámci klubu je připraven dětský fotokoutek s okamžitým tiskem fotky domů.Na závěr je pro děti připravená velká bublinková show z obřích bublifuků za doprovodu hudby.PROGRAM:Dětská diskotékaTancování s Lindou a MaruškouTaneční i netaneční soutěže o sladké odměnyDOPROVODNÝ PROGRAM:Fotokoutek s okamžitým tiskem zdarma (1 dítě = 1 fotka)Zvířecí tetovačky pro dětiBUBLINKOVÁ SHOW přímo na tanečním parketuAKČNÍ VSTUPNÉ V PŘEDPRODEJI1. NEJLEVNĚJŠÍ VSTUPNÉ 18. 4. - 30. 4.80 Kč/ks300 Kč/ 2 rodiče + 2 děti_2. VLNA AKČNÍCH VSTUPENEK 1. 5. - 20. 5.100 Kč/ks350 Kč / 2 rodiče + 2 děti_Na místě:150 Kč/ks500 Kč / 2 rodiče + 2 děti
LOCATION:Vyškov
END:VEVENT
END:VCALENDAR