BEGIN:VCALENDAR
VERSION:2.0
CALSCALE:GREGORIAN
PRODID:-//MyApp//Calendar 1.0//EN
BEGIN:VEVENT
METHOD:PUBLISH
UID:32503@regionalniportaly.cz
DTSTAMP:20260422T225835Z
DTSTART;VALUE=DATE:20230614
DTEND;VALUE=DATE:20230615
SUMMARY:Výstava DemoGreen
DESCRIPTION:7. ročník Mezinárodní odborné výstavy inovativních&nbsp\;technologií pro péči o zeleň\, dřeviny a veřejné plochyVýstava poskytne návštěvníkům komplexní pohled na veškeré činnosti související s péčí o zeleň a dřeviny a celoroční údržbou veřejných ploch a&nbsp\;komunikací. Primárním záměrem výstavy je prezentovat stroje a technologie pro realizaci těchto činností\, a to s důrazem na&nbsp\;praktické ukázky strojů v přímém nasazení.V rámci daného zaměření výstavy budou rovněž prezentovány společnosti dodávající např. profesionální ruční nářadí a pracovní oblečení nebo poskytující odborné poradenství apod.Již v předchozích&nbsp\;ročnících se rozšířilo zaměření naší výstavý také na malou stavební mechanizaci a kompaktní užitková vozidla\, přívěsy a vleky. To znamená na takové stroje a vybavení\, které potřebuje potřebují ke své práci jak profesionální zahradníci a realizátoři\, tak správci veřejných prostor a komunikací\, technické služby apod.Speciální stroje a novinkyKromě standardní prezentace širokého portfolia profesionální techniky Vám na výstavě budou i v rámci 7. ročníku předvedeny&nbsp\;speciální stroje\, které nejsou běžně k vidění. Opět se budeme snažit Vám představit zajímavé novinky a atypické stroje přímo v pracovním nasazení.Doprovodný programStabilními body našeho doprovodného programu jsou speciální předváděcí centra. Pro letošní ročník jsme pro Vás připravili:- Centrum rizikového kácení-&nbsp\;Centrum nakladačů-&nbsp\;Centrum pro sportovní hřiště-&nbsp\;Centrum robotických sekaček-&nbsp\;Testovací centrum Hultafors-&nbsp\;Centrum pro biodiverzitu.
LOCATION:Vyškov
END:VEVENT
END:VCALENDAR