BEGIN:VCALENDAR
VERSION:2.0
CALSCALE:GREGORIAN
PRODID:-//MyApp//Calendar 1.0//EN
BEGIN:VEVENT
METHOD:PUBLISH
UID:32269@regionalniportaly.cz
DTSTAMP:20260423T003956Z
DTSTART;VALUE=DATE:20230923
DTEND;VALUE=DATE:20230924
SUMMARY:Argema - KD Drnovice
DESCRIPTION:Argema&nbsp\;míří po necelých 10 letech zpět&nbsp\;do KD Drnovice!&nbsp\;ARGEMAFenomén z jižní Moravy ve svém zlatém období první poloviny 90. let válcoval hitparády a plakát s jejich podobiznou visel v nejednom pokoji.Své rodné Uherské Hradiště a jeho čtvrť Jarošov pak natrvalo zvěčnili v hitu Jarošovský pivovar. Nebyl však jediný - všichni si jistě vzpomeneme na písně jako Tohle je ráj\, Modrý pondělí\, Milión snů. Složení kapely se několikrát obměnilo\, ze současné sestavy Argemy vydržel celých 36 let od založení až do současnosti jen srdcař Pepa Pavka.
LOCATION:Drnovice
END:VEVENT
END:VCALENDAR