BEGIN:VCALENDAR
VERSION:2.0
CALSCALE:GREGORIAN
PRODID:-//MyApp//Calendar 1.0//EN
BEGIN:VEVENT
METHOD:PUBLISH
UID:32266@regionalniportaly.cz
DTSTAMP:20260422T140315Z
DTSTART;VALUE=DATE:20230617
DTEND;VALUE=DATE:20230618
SUMMARY:RousFest23
DESCRIPTION:RousFest23Sedmnáctý ročník tradiční rousínovské&nbsp\;taškařice se už nezadržitelně blíží!Takže 17.6.2023&nbsp\;všichni na značkách hned ze startu ve 14:00!&nbsp\;Začnemě pěkně zostra&nbsp\;🤘🏻
LOCATION:Rousínov
END:VEVENT
END:VCALENDAR